BEGIN:VCALENDAR
PRODID:-//AT Content Types//AT Event//EN
VERSION:1.0
BEGIN:VEVENT
DTSTART:20201231T060000Z
DTEND:20201231T060000Z
DCREATED:20230503T184544Z
UID:ATEvent-7c5f0d56f44841c19418796acfef09bc
SEQUENCE:0
LAST-MODIFIED:20250715T154859Z
SUMMARY:Zoom Meeting Info
PRIORITY:3
TRANSP:0
END:VEVENT
END:VCALENDAR
