BEGIN:VCALENDAR
PRODID:-//AT Content Types//AT Event//EN
VERSION:1.0
BEGIN:VEVENT
DTSTART:20230717T200000Z
DTEND:20230717T210000Z
DCREATED:20230628T193429Z
UID:ATEvent-cbf9e62bdb954888859d1fa195cdddad
SEQUENCE:0
LAST-MODIFIED:20230628T195357Z
SUMMARY:Subcommittee Meeting
DESCRIPTION:Meeting ID: 881 5157 1001\nPasscode: 484603
LOCATION:Zoom
PRIORITY:3
TRANSP:0
END:VEVENT
END:VCALENDAR
