BEGIN:VCALENDAR
PRODID:-//AT Content Types//AT Event//EN
VERSION:2.0
METHOD:PUBLISH
BEGIN:VEVENT
DTSTAMP:20260420T174518Z
CREATED:20210816T192708Z
UID:ATEvent-4e3246b022ec4ed6b72cc30d4431e00c
LAST-MODIFIED:20230503T185451Z
SUMMARY:May 19\, 2022 Reinvestment Subcommittee Meeting
DTSTART:20201231T060000Z
DTEND:20201231T060000Z
DESCRIPTION:
LOCATION:Via Zoom
CONTACT:Matthew Billinger\, 785-250-4937\, matthew.billinger@ks.gov
CLASS:PUBLIC
END:VEVENT
END:VCALENDAR
