BEGIN:VCALENDAR
PRODID:-//AT Content Types//AT Event//EN
VERSION:1.0
BEGIN:VEVENT
DTSTART:20201231T050000Z
DTEND:20201231T050000Z
DCREATED:20240611T190906Z
UID:ATEvent-6c3e187242814e08867a24793d233683
SEQUENCE:0
LAST-MODIFIED:20241113T164259Z
SUMMARY:November 14\, 2024
PRIORITY:3
TRANSP:0
END:VEVENT
END:VCALENDAR
